BEGIN:VCALENDAR
VERSION:2.0
PRODID:QBI UCSF
X-WR-CALNAME:HPMI Event
X-PUBLISHED-TTL:P1W
BEGIN:VEVENT
UID:6ba50318ca0740
DTSTART;VALUE=DATE:20220127
SEQUENCE:0
TRANSP:OPAQUE
DTEND;VALUE=DATE:20220127
SUMMARY:Monthly Research All Hands Meeting: Ideker and Sali Labs
CLASS:PUBLIC
X-MICROSOFT-CDO-ALLDAYEVENT:TRUE
DTSTAMP:20260419T214632Z
END:VEVENT
END:VCALENDAR